BEGIN:VCALENDAR
VERSION:2.0
PRODID:-//pretix//Blivande_Tickets//
BEGIN:VTIMEZONE
TZID:Europe/Stockholm
BEGIN:STANDARD
DTSTART:20001029T040000
RRULE:FREQ=YEARLY;BYDAY=-1SU;BYMONTH=10
TZNAME:CET
TZOFFSETFROM:+0200
TZOFFSETTO:+0100
END:STANDARD
BEGIN:DAYLIGHT
DTSTART:20000326T030000
RRULE:FREQ=YEARLY;BYDAY=-1SU;BYMONTH=3
TZNAME:CEST
TZOFFSETFROM:+0100
TZOFFSETTO:+0200
END:DAYLIGHT
END:VTIMEZONE
BEGIN:VEVENT
UID:pretix-on-latenightlinedancing-2-0@tickets.blivande.com
DTSTART;TZID=Europe/Stockholm:20260408T180000
DTEND;TZID=Europe/Stockholm:20260408T200000
DESCRIPTION:Tickets: https://tickets.blivande.com/on/latenightlinedancing-2
 /\nOrganizer: Ön AB
DTSTAMP:20260420T144344Z
LOCATION:House of Blivande - Gym Hall\, Södra Hamnvägen 9\, 115 41 Stockh
 olm
SUMMARY:Late Night Line Dancing Workshop
END:VEVENT
END:VCALENDAR
